BEGIN:VCALENDAR
VERSION:2.0
PRODID:-//wp-events-plugin.com//7.2.3.1//EN
TZID:America/New_York
X-WR-TIMEZONE:America/New_York
BEGIN:VEVENT
UID:1324@aboveboardchamber.com
DTSTART;TZID=America/New_York:20170516T183000
DTEND;TZID=America/New_York:20170516T193000
DTSTAMP:20170417T013816Z
URL:https://www.aboveboardchamber.com/events/come-and-learn-about-bemer-th
 erapy-2017-05-16/
SUMMARY:Come and learn about BEMER Therapy!
DESCRIPTION:Hello ABC!\n\nI am new to the group  so I wanted to invite you
  to learn about what I do!\n\n&nbsp\;\n\nHere is some information on BEMER
 /PEMF Therapy. \n\nHere\, Doctor OZ explains this therapy.\n\nhttps://you
 tu.be/JG2ggD7QxGo\n\nBemer is the best device on the market for this - has
  been used in Germany for the past 18 years and has formed a partnership w
 ith NASA. Bemer is especially known for dramatically increasing circulati
 on and with doing this\, delivers oxygen to each and every one of your cel
 ls\, delivers them the nutrients they need and helps them to detoxify. Thi
 s in tern promotes self healing for what ever is ailing the body. The Be
 mer is doing wonders for people all around the world with chronic pain\,
  diabetes\, insomnia\, low energy\, low testosterone\, mental clarity and 
 weight loss --- to name a few.\n\nHere is a video for the blood flow befor
 e and after an 8 minute session!\n\nhttps://youtu.be/zY0_rcvN_BQ\n\n I wi
 ll be helping to host an informative meeting that will be taking place eve
 ry Tuesday through May at the Greater Naples Chamber of Commerce! We will 
 open the doors at 6:30 to allow for FREE Bemer sessions ($50 value)! We w
 ill begin the presentation at 7:00. Would be great if you could make it!
  \n\nFeel free to pass on the information about the meeting - the more pe
 ople to learn of this technology the better!\n\nI am so excited to share t
 his device with you all!\n\nAmbrosia\n\n&nbsp\;\n\n
LOCATION:Greater Naples Chamber of Commerce\, 2390 Tamiami Trail N - Number
  210 (2nd Floor)\, Naples\, FL\, United States
GEO:26.1754572;-81.79893120000003
X-APPLE-STRUCTURED-LOCATION;VALUE=URI;X-ADDRESS=2390 Tamiami Trail N - Numb
 er 210 (2nd Floor)\, Naples\, FL\, United States;X-APPLE-RADIUS=100;X-TITL
 E=Greater Naples Chamber of Commerce:geo:26.1754572,-81.79893120000003
END:VEVENT
BEGIN:VTIMEZONE
TZID:America/New_York
X-LIC-LOCATION:America/New_York
BEGIN:DAYLIGHT
DTSTART:20170312T030000
TZOFFSETFROM:-0500
TZOFFSETTO:-0400
TZNAME:EDT
END:DAYLIGHT
END:VTIMEZONE
END:VCALENDAR