BEGIN:VCALENDAR
VERSION:2.0
PRODID:-//wp-events-plugin.com//7.2.3.1//EN
TZID:America/New_York
X-WR-TIMEZONE:America/New_York
BEGIN:VEVENT
UID:2055@aboveboardchamber.com
DTSTART;TZID=America/New_York:20260513T113000
DTEND;TZID=America/New_York:20260513T133000
DTSTAMP:20260420T015429Z
URL:https://www.aboveboardchamber.com/events/fort-myers-ai-automation-in-a
 ction/
SUMMARY:Fort Myers: AI & Automation in Action
DESCRIPTION:We are proud to partner with Florida SouthWestern State College
  and the Florida SBDC at FGCU to bring this powerful\, hands-on experience
  to you.\n\nGet ready to step into the world of AI &amp\; Automation in Ac
 tion — where learning meets doing.\n\nThis is not just a presentation…
  you’ll roll up your sleeves and leave with real tools already working i
 n your business.\n🚀 AI &amp\; Automation in Action – Hands-On Worksho
 p\nThis is not just another workshop…\n\nYou will leave with real automa
 tion built for your business in ONE hour.\n⚠️ RSVP REQUIRED – NO WAL
 K-INS\nSpots Will Fill — RSVP Now!\n\nTo ensure we have the right studen
 ts and setup for you\, please include the following when registering:\n✨
  Choose Your Hands-On Workshop (Pick ONE + ONE Backup)\n1. Automated Custo
 mer Follow-Up Emails\n\n2. Social Media Scheduling &amp\; AI Content Creat
 ion\n\n3. Appointment Booking &amp\; Reminders\n\n4. Invoice &amp\; Paymen
 t Automation\n\n5. AI-Powered FAQ Chatbot\n✨ Tell Us About Your Setup\n
 ✔ What email platform do you use?\n\n(Gmail\, Outlook\, Yahoo\, Apple Ma
 il\, or other)\n\n✔ What task would you like to automate?\n💡 Why This
  Matters:\nYou won’t just learn…\n\nYou’ll build\, implement\, and w
 alk away with tools already working in your business.\nOur Facilitators:\n
 Mary Myers\, Ed.D.\, is an experienced educator and academic leader at Flo
 rida SouthWestern State College\, where she serves as Dean of the School o
 f Business and Technology. She has many years of experience teaching\, dev
 eloping programs\, and leading online learning initiatives. Dr. Myers has 
 worked as a professor\, department chair\, and dean\, focusing on helping 
 students succeed and supporting faculty development. She is known for her 
 work in instructional technology and digital learning and has received the
  FSW Master Teacher Award for her excellence in teaching and leadership.\n
 \nDr. Peter Ocsody is Director of the Frank G. Daveler Entrepreneurship In
 stitute and Innovation Center at Florida SouthWestern State College (FSW)\
 , where he leads the launch of the college’s entrepreneurship degree and
  innovation center focused on experiential learning and venture creation. 
 A serial entrepreneur for nearly 30 years\, he has founded\, operated\, an
 d advised numerous startups and currently owns PreneurDomain and SunCoast 
 Venture Forge. He holds a PhD in Management specializing in entrepreneursh
 ip\, with research focused on serial tech founders and repeated venture cr
 eation. Previously\, he served as Chief Strategist and COO at Collaborator
 y\, advancing regional impact investing initiatives\n\nHeidi Cramer is a t
 echnology strategist and business consultant who translates over 35 years 
 of high-impact technology leadership into practical AI solutions. A go-to-
 market expert\, her experience spans Fortune 10 companies\, private equity
  firms\, and high-growth ventures. She has launched over $2B in new techno
 logy products and markets. Today\, as a consultant for the SBDC at FGCU\, 
 she demystifies emerging technology\, helping organizations adopt AI to st
 reamline operations and ignite strategic growth. Holding an MBA and curren
 tly pursuing a doctorate focused on AI in learning\, Heidi is a dynamic sp
 eaker who makes complex technology accessible and\, most importantly\, act
 ionable.\n\n\nAfter submitting you registration\, click here to go to the 
 Cart. If you can't register\, please call Jeanne at (239)-910-7426.\n\n\n\
 n\n&nbsp\;
ATTACH;FMTTYPE=image/jpeg:https://www.aboveboardchamber.com/wp-content/upl
 oads/2026/04/ABC_May_Meeting_LeeCounty_Final-Rev1.jpg
CATEGORIES:Fort Myers Meeting,Workshop
LOCATION:Florida SouthWestern State College\, 8099 College Pkwy\, Fort Myer
 s\, FL\, 33919\, United States
GEO:26.5510379;-81.88767680000001
X-APPLE-STRUCTURED-LOCATION;VALUE=URI;X-ADDRESS=8099 College Pkwy\, Fort My
 ers\, FL\, 33919\, United States;X-APPLE-RADIUS=100;X-TITLE=Florida SouthW
 estern State College:geo:26.5510379,-81.88767680000001
END:VEVENT
BEGIN:VTIMEZONE
TZID:America/New_York
X-LIC-LOCATION:America/New_York
BEGIN:DAYLIGHT
DTSTART:20260308T030000
TZOFFSETFROM:-0500
TZOFFSETTO:-0400
TZNAME:EDT
END:DAYLIGHT
END:VTIMEZONE
END:VCALENDAR