BEGIN:VCALENDAR
VERSION:2.0
PRODID:-//wp-events-plugin.com//7.2.3.1//EN
TZID:America/New_York
X-WR-TIMEZONE:America/New_York
BEGIN:VEVENT
UID:2046@aboveboardchamber.com
DTSTART;TZID=America/New_York:20260309T113000
DTEND;TZID=America/New_York:20260309T130000
DTSTAMP:20260311T013656Z
URL:https://www.aboveboardchamber.com/events/naples-disagreement-without-d
 iscord-civil-conversation-at-work-home-and-online/
SUMMARY:Naples: Disagreement Without Discord: Civil Conversation at Work\, 
 Home\, and Online
DESCRIPTION:We have assembled an outstanding group of leaders for what is s
 haping up to be one of our most timely and impactful conversations. Togeth
 er\, this panel represents legal\, business\, civic\, and faith-based lead
 ership — bringing thoughtful\, balanced perspectives our community needs
  right now.\n🌟 Program Overview\nIn today’s climate\, disagreement i
 s inevitable — but division does not have to be.\nThis program focuses o
 n how leaders can navigate difficult conversations with professionalism\, 
 wisdom\, and grace across business environments\, family dynamics\, commun
 ity relationships\, and even social media platforms.\nWe will explore prac
 tical strategies for:\n\n 	\nMaintaining respect when perspectives differ\
 n\n 	\nSetting healthy boundaries\n\n 	\nPreserving relationships\n\n 	\nL
 eading with civility in high-conflict situations\n\n\nThis discussion is d
 esigned to equip business owners\, executives\, nonprofit leaders\, and em
 erging leaders with tools they can immediately apply in both their workpla
 ces and personal lives.\nThis is more than a conversation about conflict 
 — it is about strengthening leadership\, protecting relationships\, and 
 modeling character-driven dialogue in our community.\n🎤 Meet our moder
 ator\nPatrick Neale\, Esq\, Owner\, Patrick Neale and Associates\nSponsor 
 &amp\; Moderator\nAn attorney\, mediator\, arbitrator\, and respected comm
 unity leader\, Patrick brings decades of experience guiding complex conver
 sations and resolving disputes. His legal insight and balanced leadership 
 style will frame this discussion with clarity\, professionalism\, and prac
 tical wisdom.\n🎤 Meet the Panel\nLisa Gruenloh\, MPAP\, CPC. Founder/ 
 President\, Purpose Journey\, Inc and Co-Chair of SWFL Alliance of Braver 
 Angels\nSponsor &amp\; Panelist\nLisa specializes in organizational develo
 pment\, executive coaching\, and civil dialogue. Her expertise in ethical 
 leadership and values-based decision-making provides practical tools for l
 eaders navigating workplace conflict and fostering cultures rooted in resp
 ect and accountability.\nJ. Christopher Lombardo\, Esq. Partner Woodward\,
  Pires &amp\; Lombardo\, P.A.\nPanelist\nWith extensive experience in liti
 gation\, mediation\, and high-conflict cases\, Chris offers real-world ins
 ight into how disagreements escalate — and how they can be constructivel
 y managed. His legal and financial background brings a grounded perspectiv
 e on resolving both personal and professional disputes.\nMarc Collins\, Ex
 ecutive Director\, Uncommon Friends\nPanelist\nMarc’s leadership in civi
 c engagement and character education brings a powerful voice for civility\
 , integrity\, and respectful discourse. His experience leading community i
 nitiatives adds thoughtful depth to this important conversation.\nSenior P
 astor Mark Caldwell\, North Naples Church\nPanelist\nPastor Mark has serve
 d North Naples Church since 2019. With degrees from Florida Southern Colle
 ge\, Duke University\, and Asbury Theological Seminary\, his ministry expe
 rience across Florida brings a faith-centered\, relational perspective to 
 navigating disagreement with wisdom\, grace\, and character-driven leaders
 hip.\n🕒 Schedule for March 9\n11:00 AM – Arrival for panelists\, emce
 e\, and sponsors\n11:30 AM – Guest check-in &amp\; networking\n11:45 AM 
 – Program begins\n1:00 PM  – Program concludes\n\n\n\nAfter submittin
 g you registration\, click here to go to the Cart. If you can't register\,
  please call Jeanne at (239)-910-7426.\n\n
ATTACH;FMTTYPE=image/jpeg:https://www.aboveboardchamber.com/wp-content/upl
 oads/2026/02/ABC_Naples_Final.jpg
CATEGORIES:Naples Meeting
LOCATION:Hilton Naples\, 5111 Tamiami Trail N.\, Naples\, Florida\, 34103\,
  United States
GEO:26.2094923;-81.80164909999996
X-APPLE-STRUCTURED-LOCATION;VALUE=URI;X-ADDRESS=5111 Tamiami Trail N.\, Nap
 les\, Florida\, 34103\, United States;X-APPLE-RADIUS=100;X-TITLE=Hilton Na
 ples:geo:26.2094923,-81.80164909999996
END:VEVENT
BEGIN:VTIMEZONE
TZID:America/New_York
X-LIC-LOCATION:America/New_York
BEGIN:DAYLIGHT
DTSTART:20260308T030000
TZOFFSETFROM:-0500
TZOFFSETTO:-0400
TZNAME:EDT
END:DAYLIGHT
END:VTIMEZONE
END:VCALENDAR