BEGIN:VCALENDAR
VERSION:2.0
PRODID:-//wp-events-plugin.com//7.2.3.1//EN
TZID:America/New_York
X-WR-TIMEZONE:America/New_York
BEGIN:VEVENT
UID:150@aboveboardchamber.com
DTSTART;TZID=America/New_York:20141210T193000
DTEND;TZID=America/New_York:20141210T220000
DTSTAMP:20141112T204138Z
URL:https://www.aboveboardchamber.com/events/rotary-south-all-star-classic
 -football-game/
SUMMARY:Rotary South All-Star Classic Football Game 
DESCRIPTION:Rotary Club of Fort Myers South is pleased to announce the 26th
 Annual Rotary South All-Star Classic taking place from December 8-10.  On
  Wednesday\, December 10\, the last day of the event\, the popular footbal
 l game between North and South high school all-star players will take plac
 e at Fort Myers High School’s Sam Sirianni Field in Edison Stadium. Tick
 ets to the game will be $5 and can be paid at the door. The annual All-Sta
 r Classic football game showcases the best senior players from across Lee 
 County’s public and private high school football teams. Participating pl
 ayers and cheerleaders are nominated by their head coaches\, and become el
 igible to receive recognition as an MVP or scholar-athlete. The players co
 me together on teams\, competing against each other as North vs. South\, r
 epresenting one of the final challenges these players will face in their h
 igh school football careers.. Each of the football players and cheerleader
 s are presented with a customized commemorative ring or charm. The Rotary 
 Club of Fort Myers South is currently seeking donations and sponsors to he
 lp cover the cost of this annual event. Area businesses or individuals can
  sponsor the event\, a team\, player or cheerleader. There are also opport
 unities to advertise in the event program featuring the student athletes t
 hat are being honored. For more information on sponsorship or ticket sales
 \, please contact John Doramus at globalpriorityone@yahoo.com or (239) 634
 -8286. Visit http://rotarysouthallstarclassic.org/ for additional informat
 ion.
LOCATION:Fort Myers High School's Sam Sirianni Field\, 2635 Cortez Blvd\, F
 ort Myers\, FL\, 33901\, United States
GEO:26.62772;-81.87764099999998
X-APPLE-STRUCTURED-LOCATION;VALUE=URI;X-ADDRESS=2635 Cortez Blvd\, Fort Mye
 rs\, FL\, 33901\, United States;X-APPLE-RADIUS=100;X-TITLE=Fort Myers High
  School's Sam Sirianni Field:geo:26.62772,-81.87764099999998
END:VEVENT
BEGIN:VTIMEZONE
TZID:America/New_York
X-LIC-LOCATION:America/New_York
BEGIN:STANDARD
DTSTART:20141102T010000
TZOFFSETFROM:-0400
TZOFFSETTO:-0500
TZNAME:EST
END:STANDARD
END:VTIMEZONE
END:VCALENDAR